Package: HDTD Version: 1.43.0 Command: /home/biocbuild/bbs-3.22-bioc/R/bin/R CMD build --keep-empty-dirs --no-resave-data --md5 HDTD StartedAt: 2025-10-14 18:03:29 -0400 (Tue, 14 Oct 2025) EndedAt: 2025-10-14 18:03:52 -0400 (Tue, 14 Oct 2025) EllapsedTime: 23.0 seconds RetCode: 0 Status: OK PackageFile: HDTD_1.43.0.tar.gz PackageFileSize: 164.3 KiB