Package: HDTD Version: 1.41.0 Command: /home/biocbuild/R/R/bin/R CMD INSTALL HDTD StartedAt: 2025-01-29 19:31:33 -0000 (Wed, 29 Jan 2025) EndedAt: 2025-01-29 19:32:06 -0000 (Wed, 29 Jan 2025) EllapsedTime: 32.5 seconds RetCode: 0 Status: OK