Package: HDF5Array Version: 1.37.0 Maintainer: Hervé Pagès MaintainerEmail: hpages.on.github at gmail.com git_url: https://git.bioconductor.org/packages/HDF5Array git_branch: devel git_last_commit: 2d9647e git_last_commit_date: 2025-04-15 10:58:57 -0400 (Tue, 15 Apr 2025)