Package: Gviz Version: 1.53.1 Command: chmod a+r Gviz -R && F:\biocbuild\bbs-3.22-bioc\R\bin\R.exe CMD build --keep-empty-dirs --no-resave-data Gviz StartedAt: 2025-08-14 20:41:56 -0400 (Thu, 14 Aug 2025) EndedAt: 2025-08-14 20:47:42 -0400 (Thu, 14 Aug 2025) EllapsedTime: 345.5 seconds RetCode: 0 Status: OK PackageFile: Gviz_1.53.1.tar.gz PackageFileSize: 5.93 MiB