Package: Gviz Version: 1.53.1 Command: rm -rf Gviz.buildbin-libdir && mkdir Gviz.buildbin-libdir && F:\biocbuild\bbs-3.22-bioc\R\bin\R.exe CMD INSTALL --build --library=Gviz.buildbin-libdir Gviz_1.53.1.tar.gz StartedAt: 2025-08-15 10:26:29 -0400 (Fri, 15 Aug 2025) EndedAt: 2025-08-15 10:29:00 -0400 (Fri, 15 Aug 2025) EllapsedTime: 150.7 seconds RetCode: 0 Status: OK PackageFile: Gviz_1.53.1.zip PackageFileSize: 5.961 MiB