Package: GreyListChIP Version: 1.39.0 Command: /Library/Frameworks/R.framework/Resources/bin/R CMD check --install=check:GreyListChIP.install-out.txt --library=/Library/Frameworks/R.framework/Resources/library --no-vignettes --timings GreyListChIP_1.39.0.tar.gz StartedAt: 2025-02-16 20:45:03 -0500 (Sun, 16 Feb 2025) EndedAt: 2025-02-16 20:50:06 -0500 (Sun, 16 Feb 2025) EllapsedTime: 303.0 seconds RetCode: 0 Status: OK CheckDir: GreyListChIP.Rcheck Warnings: 0