Package: GreyListChIP Version: 1.39.0 Command: rm -rf GreyListChIP.buildbin-libdir && mkdir GreyListChIP.buildbin-libdir && /Users/biocbuild/BBS/utils/build-universal.sh GreyListChIP_1.39.0.tar.gz /Library/Frameworks/R.framework/Resources/bin/R GreyListChIP.buildbin-libdir StartedAt: 2025-02-14 22:13:49 -0500 (Fri, 14 Feb 2025) EndedAt: 2025-02-14 22:14:04 -0500 (Fri, 14 Feb 2025) EllapsedTime: 15.4 seconds RetCode: 0 Status: OK PackageFile: GreyListChIP_1.39.0.tgz PackageFileSize: 896.3 KiB