Package: GraphPAC Version: 1.49.0 Command: /Library/Frameworks/R.framework/Resources/bin/R CMD INSTALL GraphPAC StartedAt: 2025-02-14 15:35:03 -0500 (Fri, 14 Feb 2025) EndedAt: 2025-02-14 15:35:22 -0500 (Fri, 14 Feb 2025) EllapsedTime: 19.2 seconds RetCode: 0 Status: OK