Package: GraphPAC Version: 1.49.0 Command: /Library/Frameworks/R.framework/Resources/bin/R CMD build --keep-empty-dirs --no-resave-data GraphPAC StartedAt: 2025-02-14 16:50:48 -0500 (Fri, 14 Feb 2025) EndedAt: 2025-02-14 16:52:10 -0500 (Fri, 14 Feb 2025) EllapsedTime: 81.9 seconds RetCode: 0 Status: OK PackageFile: GraphPAC_1.49.0.tar.gz PackageFileSize: 705.5 KiB