Package: GraphPAC Version: 1.49.0 Command: rm -rf GraphPAC.buildbin-libdir && mkdir GraphPAC.buildbin-libdir && /Users/biocbuild/BBS/utils/build-universal.sh GraphPAC_1.49.0.tar.gz /Library/Frameworks/R.framework/Resources/bin/R GraphPAC.buildbin-libdir StartedAt: 2025-02-15 00:27:21 -0500 (Sat, 15 Feb 2025) EndedAt: 2025-02-15 00:27:43 -0500 (Sat, 15 Feb 2025) EllapsedTime: 22.1 seconds RetCode: 0 Status: OK PackageFile: GraphPAC_1.49.0.tgz PackageFileSize: 521.2 KiB