Package: GraphAlignment Version: 1.73.0 Command: /home/biocbuild/bbs-3.22-bioc/R/bin/R CMD INSTALL GraphAlignment StartedAt: 2025-07-18 15:06:26 -0400 (Fri, 18 Jul 2025) EndedAt: 2025-07-18 15:06:46 -0400 (Fri, 18 Jul 2025) EllapsedTime: 19.4 seconds RetCode: 0 Status: OK