Package: GraphAlignment Version: 1.73.0 Command: /home/biocbuild/bbs-3.22-bioc/R/bin/R CMD build --keep-empty-dirs --no-resave-data --md5 GraphAlignment StartedAt: 2025-07-18 17:28:04 -0400 (Fri, 18 Jul 2025) EndedAt: 2025-07-18 17:28:11 -0400 (Fri, 18 Jul 2025) EllapsedTime: 7.0 seconds RetCode: 0 Status: OK PackageFile: GraphAlignment_1.73.0.tar.gz PackageFileSize: 593.1 KiB