Package: GraphAlignment Version: 1.71.0 Command: /home/biocbuild/bbs-3.21-bioc/R/bin/R CMD check --install=check:GraphAlignment.install-out.txt --library=/home/biocbuild/bbs-3.21-bioc/R/site-library --timings GraphAlignment_1.71.0.tar.gz StartedAt: 2025-02-04 22:53:08 -0500 (Tue, 04 Feb 2025) EndedAt: 2025-02-04 22:53:27 -0500 (Tue, 04 Feb 2025) EllapsedTime: 19.0 seconds RetCode: 0 Status: WARNINGS CheckDir: GraphAlignment.Rcheck Warnings: 1