Package: GraphAlignment Version: 1.71.0 Command: /Library/Frameworks/R.framework/Resources/bin/R CMD check --install=check:GraphAlignment.install-out.txt --library=/Library/Frameworks/R.framework/Resources/library --no-vignettes --timings GraphAlignment_1.71.0.tar.gz StartedAt: 2025-02-04 20:53:51 -0500 (Tue, 04 Feb 2025) EndedAt: 2025-02-04 20:54:18 -0500 (Tue, 04 Feb 2025) EllapsedTime: 26.6 seconds RetCode: 0 Status: OK CheckDir: GraphAlignment.Rcheck Warnings: 0