Package: GraphAlignment Version: 1.71.0 Command: /Library/Frameworks/R.framework/Resources/bin/R CMD build --keep-empty-dirs --no-resave-data GraphAlignment StartedAt: 2025-02-04 16:54:32 -0500 (Tue, 04 Feb 2025) EndedAt: 2025-02-04 16:54:46 -0500 (Tue, 04 Feb 2025) EllapsedTime: 13.7 seconds RetCode: 0 Status: OK PackageFile: GraphAlignment_1.71.0.tar.gz PackageFileSize: 591.3 KiB