Package: GraphAlignment Version: 1.71.0 Command: rm -rf GraphAlignment.buildbin-libdir && mkdir GraphAlignment.buildbin-libdir && /Users/biocbuild/BBS/utils/build-universal.sh GraphAlignment_1.71.0.tar.gz /Library/Frameworks/R.framework/Resources/bin/R GraphAlignment.buildbin-libdir StartedAt: 2025-02-05 00:42:59 -0500 (Wed, 05 Feb 2025) EndedAt: 2025-02-05 00:43:08 -0500 (Wed, 05 Feb 2025) EllapsedTime: 9.1 seconds RetCode: 0 Status: OK PackageFile: GraphAlignment_1.71.0.tgz PackageFileSize: 577 KiB