Package: GraphAlignment Version: 1.71.0 Command: /home/biocbuild/R/R/bin/R CMD check --install=check:GraphAlignment.install-out.txt --library=/home/biocbuild/R/R/site-library --no-vignettes --timings GraphAlignment_1.71.0.tar.gz StartedAt: 2025-01-28 11:16:45 -0000 (Tue, 28 Jan 2025) EndedAt: 2025-01-28 11:17:03 -0000 (Tue, 28 Jan 2025) EllapsedTime: 18.0 seconds RetCode: 0 Status: OK CheckDir: GraphAlignment.Rcheck Warnings: 0