Package: GraphAlignment Version: 1.71.0 Command: /home/biocbuild/R/R/bin/R CMD build --keep-empty-dirs --no-resave-data GraphAlignment StartedAt: 2025-01-28 23:22:01 -0000 (Tue, 28 Jan 2025) EndedAt: 2025-01-28 23:22:09 -0000 (Tue, 28 Jan 2025) EllapsedTime: 8.0 seconds RetCode: 0 Status: OK PackageFile: GraphAlignment_1.71.0.tar.gz PackageFileSize: 608.4 KiB