Package: GraphAT Version: 1.81.0 Command: /home/biocbuild/R/R/bin/R CMD INSTALL GraphAT StartedAt: 2025-10-06 20:24:08 -0000 (Mon, 06 Oct 2025) EndedAt: 2025-10-06 20:24:17 -0000 (Mon, 06 Oct 2025) EllapsedTime: 8.9 seconds RetCode: 0 Status: OK