Package: GraphAT Version: 1.81.0 Command: /home/biocbuild/R/R/bin/R CMD build --keep-empty-dirs --no-resave-data GraphAT StartedAt: 2025-10-07 00:10:20 -0000 (Tue, 07 Oct 2025) EndedAt: 2025-10-07 00:10:22 -0000 (Tue, 07 Oct 2025) EllapsedTime: 2.0 seconds RetCode: 0 Status: OK PackageFile: GraphAT_1.81.0.tar.gz PackageFileSize: 1.884 MiB