Package: GmicR Version: 1.21.0 Command: E:\biocbuild\bbs-3.21-bioc\R\bin\R.exe CMD INSTALL GmicR StartedAt: 2025-02-03 16:11:50 -0500 (Mon, 03 Feb 2025) EndedAt: 2025-02-03 16:12:27 -0500 (Mon, 03 Feb 2025) EllapsedTime: 37.2 seconds RetCode: 0 Status: OK