Package: GmicR Version: 1.21.0 Command: chmod a+r GmicR -R && E:\biocbuild\bbs-3.21-bioc\R\bin\R.exe CMD build --keep-empty-dirs --no-resave-data GmicR StartedAt: 2025-02-03 19:13:04 -0500 (Mon, 03 Feb 2025) EndedAt: 2025-02-03 19:25:19 -0500 (Mon, 03 Feb 2025) EllapsedTime: 735.8 seconds RetCode: 0 Status: OK PackageFile: GmicR_1.21.0.tar.gz PackageFileSize: 3.4 MiB