Package: GmicR Version: 1.21.0 Command: rm -rf GmicR.buildbin-libdir && mkdir GmicR.buildbin-libdir && E:\biocbuild\bbs-3.21-bioc\R\bin\R.exe CMD INSTALL --build --library=GmicR.buildbin-libdir GmicR_1.21.0.tar.gz StartedAt: 2025-02-04 08:05:22 -0500 (Tue, 04 Feb 2025) EndedAt: 2025-02-04 08:06:00 -0500 (Tue, 04 Feb 2025) EllapsedTime: 37.9 seconds RetCode: 0 Status: OK PackageFile: GmicR_1.21.0.zip PackageFileSize: 3.453 MiB