Package: GmicR Version: 1.23.0 Command: /home/biocbuild/bbs-3.22-bioc/R/bin/R CMD build --keep-empty-dirs --no-resave-data --md5 GmicR StartedAt: 2025-10-03 17:52:09 -0400 (Fri, 03 Oct 2025) EndedAt: 2025-10-03 18:01:40 -0400 (Fri, 03 Oct 2025) EllapsedTime: 570.6 seconds RetCode: 0 Status: OK PackageFile: GmicR_1.23.0.tar.gz PackageFileSize: 3.487 MiB