Package: GmicR Version: 1.21.0 Command: /home/biocbuild/bbs-3.21-bioc/R/bin/R CMD INSTALL GmicR StartedAt: 2025-02-03 15:51:52 -0500 (Mon, 03 Feb 2025) EndedAt: 2025-02-03 15:52:18 -0500 (Mon, 03 Feb 2025) EllapsedTime: 26.7 seconds RetCode: 0 Status: OK