Package: GmicR Version: 1.21.0 Command: /Library/Frameworks/R.framework/Resources/bin/R CMD build --keep-empty-dirs --no-resave-data GmicR StartedAt: 2025-02-03 17:05:54 -0500 (Mon, 03 Feb 2025) EndedAt: 2025-02-03 17:10:26 -0500 (Mon, 03 Feb 2025) EllapsedTime: 271.9 seconds RetCode: 0 Status: OK PackageFile: GmicR_1.21.0.tar.gz PackageFileSize: 3.493 MiB