Package: GlobalAncova Version: 4.27.0 Command: chmod a+r GlobalAncova -R && F:\biocbuild\bbs-3.22-bioc\R\bin\R.exe CMD build --keep-empty-dirs --no-resave-data GlobalAncova StartedAt: 2025-08-14 20:33:52 -0400 (Thu, 14 Aug 2025) EndedAt: 2025-08-14 20:43:21 -0400 (Thu, 14 Aug 2025) EllapsedTime: 568.8 seconds RetCode: 0 Status: OK PackageFile: GlobalAncova_4.27.0.tar.gz PackageFileSize: 961.6 KiB