Package: GlobalAncova Version: 4.27.0 Command: /home/biocbuild/bbs-3.22-bioc/R/bin/R CMD INSTALL GlobalAncova StartedAt: 2025-10-16 16:17:57 -0400 (Thu, 16 Oct 2025) EndedAt: 2025-10-16 16:18:24 -0400 (Thu, 16 Oct 2025) EllapsedTime: 26.3 seconds RetCode: 0 Status: OK