Package: GlobalAncova Version: 4.27.0 Command: /home/biocbuild/bbs-3.22-bioc/R/bin/R CMD build --keep-empty-dirs --no-resave-data --md5 GlobalAncova StartedAt: 2025-10-16 18:53:00 -0400 (Thu, 16 Oct 2025) EndedAt: 2025-10-16 19:00:02 -0400 (Thu, 16 Oct 2025) EllapsedTime: 422.3 seconds RetCode: 0 Status: OK PackageFile: GlobalAncova_4.27.0.tar.gz PackageFileSize: 1.21 MiB