Package: GloScope Version: 1.7.1 Command: chmod a+r GloScope -R && F:\biocbuild\bbs-3.22-bioc\R\bin\R.exe CMD build --keep-empty-dirs --no-resave-data GloScope StartedAt: 2025-08-14 20:34:30 -0400 (Thu, 14 Aug 2025) EndedAt: 2025-08-14 20:35:34 -0400 (Thu, 14 Aug 2025) EllapsedTime: 64.8 seconds RetCode: 0 Status: OK PackageFile: GloScope_1.7.1.tar.gz PackageFileSize: 2.548 MiB