Package: GloScope Version: 1.5.0 Command: /home/biocbuild/bbs-3.21-bioc/R/bin/R CMD INSTALL GloScope StartedAt: 2025-02-16 15:25:09 -0500 (Sun, 16 Feb 2025) EndedAt: 2025-02-16 15:25:33 -0500 (Sun, 16 Feb 2025) EllapsedTime: 23.7 seconds RetCode: 0 Status: OK