Package: GloScope Version: 1.5.0 Command: /home/biocbuild/R/R/bin/R CMD build --keep-empty-dirs --no-resave-data GloScope StartedAt: 2025-01-28 23:15:19 -0000 (Tue, 28 Jan 2025) EndedAt: 2025-01-28 23:16:29 -0000 (Tue, 28 Jan 2025) EllapsedTime: 70.0 seconds RetCode: 0 Status: OK PackageFile: GloScope_1.5.0.tar.gz PackageFileSize: 2.59 MiB