Package: GloScope Version: 1.7.0 Maintainer: William Torous MaintainerEmail: wtorous at berkeley.edu git_url: https://git.bioconductor.org/packages/GloScope git_branch: devel git_last_commit: 49ef1c9 git_last_commit_date: 2025-04-15 13:21:07 -0400 (Tue, 15 Apr 2025)