Package: Glimma Version: 2.19.2 Command: chmod a+r Glimma -R && F:\biocbuild\bbs-3.22-bioc\R\bin\R.exe CMD build --keep-empty-dirs --no-resave-data Glimma StartedAt: 2025-08-14 20:33:12 -0400 (Thu, 14 Aug 2025) EndedAt: 2025-08-14 20:45:32 -0400 (Thu, 14 Aug 2025) EllapsedTime: 739.4 seconds RetCode: 0 Status: OK PackageFile: Glimma_2.19.2.tar.gz PackageFileSize: 11.12 MiB