Package: Glimma Version: 2.19.2 Command: /home/biocbuild/bbs-3.22-bioc/R/bin/R CMD INSTALL Glimma StartedAt: 2025-10-08 15:33:11 -0400 (Wed, 08 Oct 2025) EndedAt: 2025-10-08 15:33:40 -0400 (Wed, 08 Oct 2025) EllapsedTime: 28.5 seconds RetCode: 0 Status: OK