Package: GladiaTOX Version: 1.25.3 Command: /home/biocbuild/R/R/bin/R CMD build --keep-empty-dirs --no-resave-data GladiaTOX StartedAt: 2025-09-30 00:18:59 -0000 (Tue, 30 Sep 2025) EndedAt: 2025-09-30 00:24:00 -0000 (Tue, 30 Sep 2025) EllapsedTime: 301.1 seconds RetCode: 0 Status: OK PackageFile: GladiaTOX_1.25.3.tar.gz PackageFileSize: 2.978 MiB