Package: GladiaTOX Version: 1.25.1 Command: chmod a+r GladiaTOX -R && F:\biocbuild\bbs-3.22-bioc\R\bin\R.exe CMD build --keep-empty-dirs --no-resave-data GladiaTOX StartedAt: 2025-08-14 20:33:01 -0400 (Thu, 14 Aug 2025) EndedAt: 2025-08-14 20:39:00 -0400 (Thu, 14 Aug 2025) EllapsedTime: 358.2 seconds RetCode: 0 Status: OK PackageFile: GladiaTOX_1.25.1.tar.gz PackageFileSize: 2.655 MiB