Package: GeomxTools Version: 3.13.1 Command: /home/biocbuild/R/R/bin/R CMD INSTALL GeomxTools StartedAt: 2025-10-16 21:28:26 -0000 (Thu, 16 Oct 2025) EndedAt: 2025-10-16 21:29:02 -0000 (Thu, 16 Oct 2025) EllapsedTime: 36.8 seconds RetCode: 0 Status: OK