Package: GeomxTools Version: 3.13.1 Command: /home/biocbuild/R/R/bin/R CMD build --keep-empty-dirs --no-resave-data GeomxTools StartedAt: 2025-10-17 01:30:01 -0000 (Fri, 17 Oct 2025) EndedAt: 2025-10-17 01:39:15 -0000 (Fri, 17 Oct 2025) EllapsedTime: 554.2 seconds RetCode: 0 Status: OK PackageFile: GeomxTools_3.13.1.tar.gz PackageFileSize: 14.26 MiB