Package: GeoDiff Version: 1.13.0 Command: rm -rf GeoDiff.buildbin-libdir && mkdir GeoDiff.buildbin-libdir && E:\biocbuild\bbs-3.21-bioc\R\bin\R.exe CMD INSTALL --build --library=GeoDiff.buildbin-libdir GeoDiff_1.13.0.tar.gz StartedAt: 2025-02-21 08:11:15 -0500 (Fri, 21 Feb 2025) EndedAt: 2025-02-21 08:13:19 -0500 (Fri, 21 Feb 2025) EllapsedTime: 124.5 seconds RetCode: 0 Status: OK PackageFile: GeoDiff_1.13.0.zip PackageFileSize: 4.949 MiB