Package: GeoDiff Version: 1.15.0 Maintainer: Nicole Ortogero MaintainerEmail: nortogero at nanostring.com git_url: https://git.bioconductor.org/packages/GeoDiff git_branch: devel git_last_commit: a054efc git_last_commit_date: 2025-04-15 12:42:09 -0400 (Tue, 15 Apr 2025)