Package: GenomicTuples Version: 1.41.1 Command: E:\biocbuild\bbs-3.21-bioc\R\bin\R.exe CMD INSTALL GenomicTuples StartedAt: 2025-02-09 15:38:01 -0500 (Sun, 09 Feb 2025) EndedAt: 2025-02-09 15:39:40 -0500 (Sun, 09 Feb 2025) EllapsedTime: 99.0 seconds RetCode: 0 Status: OK