Package: GenomicTuples Version: 1.41.1 Command: E:\biocbuild\bbs-3.21-bioc\R\bin\R.exe CMD check --no-multiarch --install=check:GenomicTuples.install-out.txt --library=E:\biocbuild\bbs-3.21-bioc\R\library --no-vignettes --timings GenomicTuples_1.41.1.tar.gz StartedAt: 2025-02-13 01:39:56 -0500 (Thu, 13 Feb 2025) EndedAt: 2025-02-13 01:42:37 -0500 (Thu, 13 Feb 2025) EllapsedTime: 160.6 seconds RetCode: 0 Status: OK CheckDir: GenomicTuples.Rcheck Warnings: 0