Package: GenomicTuples Version: 1.41.1 Command: chmod a+r GenomicTuples -R && E:\biocbuild\bbs-3.21-bioc\R\bin\R.exe CMD build --keep-empty-dirs --no-resave-data GenomicTuples StartedAt: 2025-02-09 18:55:28 -0500 (Sun, 09 Feb 2025) EndedAt: 2025-02-09 18:56:45 -0500 (Sun, 09 Feb 2025) EllapsedTime: 76.6 seconds RetCode: 0 Status: OK PackageFile: GenomicTuples_1.41.1.tar.gz PackageFileSize: 303.6 KiB