Package: GenomicTuples Version: 1.43.1 Command: /home/biocbuild/bbs-3.22-bioc/R/bin/R CMD INSTALL GenomicTuples StartedAt: 2025-10-08 15:43:05 -0400 (Wed, 08 Oct 2025) EndedAt: 2025-10-08 15:43:35 -0400 (Wed, 08 Oct 2025) EllapsedTime: 30.1 seconds RetCode: 0 Status: OK