Package: GenomicTuples Version: 1.43.1 Command: /home/biocbuild/bbs-3.22-bioc/R/bin/R CMD build --keep-empty-dirs --no-resave-data --md5 GenomicTuples StartedAt: 2025-10-09 17:52:20 -0400 (Thu, 09 Oct 2025) EndedAt: 2025-10-09 17:52:57 -0400 (Thu, 09 Oct 2025) EllapsedTime: 37.0 seconds RetCode: 0 Status: OK PackageFile: GenomicTuples_1.43.1.tar.gz PackageFileSize: 305.2 KiB