Package: GenomicTuples Version: 1.41.1 Command: /Library/Frameworks/R.framework/Resources/bin/R CMD build --keep-empty-dirs --no-resave-data GenomicTuples StartedAt: 2025-02-03 16:54:14 -0500 (Mon, 03 Feb 2025) EndedAt: 2025-02-03 16:54:57 -0500 (Mon, 03 Feb 2025) EllapsedTime: 43.6 seconds RetCode: 0 Status: OK PackageFile: GenomicTuples_1.41.1.tar.gz PackageFileSize: 302.8 KiB