Package: GenomicTuples Version: 1.41.1 Command: /Library/Frameworks/R.framework/Resources/bin/R CMD INSTALL GenomicTuples StartedAt: 2025-02-03 15:39:11 -0500 (Mon, 03 Feb 2025) EndedAt: 2025-02-03 15:39:20 -0500 (Mon, 03 Feb 2025) EllapsedTime: 9.5 seconds RetCode: 0 Status: OK