Package: GenomicSuperSignature Version: 1.17.1 Command: /home/biocbuild/bbs-3.22-bioc/R/bin/R CMD INSTALL GenomicSuperSignature StartedAt: 2025-10-07 15:30:45 -0400 (Tue, 07 Oct 2025) EndedAt: 2025-10-07 15:31:15 -0400 (Tue, 07 Oct 2025) EllapsedTime: 30.4 seconds RetCode: 0 Status: OK