Package: GenomicScores Version: 2.19.0 Command: /home/biocbuild/R/R/bin/R CMD INSTALL GenomicScores StartedAt: 2025-01-29 19:49:33 -0000 (Wed, 29 Jan 2025) EndedAt: 2025-01-29 19:50:18 -0000 (Wed, 29 Jan 2025) EllapsedTime: 44.4 seconds RetCode: 0 Status: OK